BEGIN:VCALENDAR
VERSION:2.0
PRODID:-//Grabeskirche St. Joseph Viersen//NONSGML kigkonsult.se iCalcreator 2.41.92//
CALSCALE:GREGORIAN
METHOD:PUBLISH
UID:34343439-6265-4238-b439-303266356566
X-WR-CALNAME:iCagenda
X-WR-CALDESC:Event Management Extension for Joomla!
X-WR-RELCALID:3E26604A-50F4-4449-8B3E-E4F4932D05B5
X-WR-TIMEZONE:Europe/Berlin
BEGIN:VTIMEZONE
TZID:Europe/Berlin
TZUNTIL:20310330T010000Z
BEGIN:STANDARD
TZNAME:CET
DTSTART:20281029T030000
TZOFFSETFROM:+0200
TZOFFSETTO:+0100
RDATE:20291028T030000
RDATE:20301027T030000
END:STANDARD
BEGIN:DAYLIGHT
TZNAME:CEST
DTSTART:20290325T020000
TZOFFSETFROM:+0100
TZOFFSETTO:+0200
RDATE:20300331T020000
END:DAYLIGHT
END:VTIMEZONE
BEGIN:VEVENT
UID:65386639-6365-4534-b336-656336393732
DTSTAMP:20260422T151508Z
CATEGORIES:Veranstaltungen
CLASS:PUBLIC
DESCRIPTION:
DTSTART:20290825T163000Z
DTEND:20290825T173000Z
GEO:00;0
LOCATION:Grabeskirche St. Joseph\, An der Josefskirche 15\, 41747 Viersen
ORGANIZER:
SEQUENCE:1
SUMMARY:Gedenkmesse für die Verstorbenen
TRANSP:OPAQUE
URL:https://grabeskirche.st-remigius.de/veranstaltungen/59-gedenkmesse-fuer
 -die-verstorbenen-6/2029-08-25-18-30?layout=vcal
END:VEVENT
END:VCALENDAR
